BEGIN:VCALENDAR
VERSION:2.0
PRODID:-//Lazy M Lodge - ECPv6.15.20//NONSGML v1.0//EN
CALSCALE:GREGORIAN
METHOD:PUBLISH
X-WR-CALNAME:Lazy M Lodge
X-ORIGINAL-URL:https://www.lazymcanada.com
X-WR-CALDESC:Events for Lazy M Lodge
REFRESH-INTERVAL;VALUE=DURATION:PT1H
X-Robots-Tag:noindex
X-PUBLISHED-TTL:PT1H
BEGIN:VTIMEZONE
TZID:America/Denver
BEGIN:DAYLIGHT
TZOFFSETFROM:-0700
TZOFFSETTO:-0600
TZNAME:MDT
DTSTART:20180311T090000
END:DAYLIGHT
BEGIN:STANDARD
TZOFFSETFROM:-0600
TZOFFSETTO:-0700
TZNAME:MST
DTSTART:20181104T080000
END:STANDARD
BEGIN:DAYLIGHT
TZOFFSETFROM:-0700
TZOFFSETTO:-0600
TZNAME:MDT
DTSTART:20190310T090000
END:DAYLIGHT
BEGIN:STANDARD
TZOFFSETFROM:-0600
TZOFFSETTO:-0700
TZNAME:MST
DTSTART:20191103T080000
END:STANDARD
BEGIN:DAYLIGHT
TZOFFSETFROM:-0700
TZOFFSETTO:-0600
TZNAME:MDT
DTSTART:20200308T090000
END:DAYLIGHT
BEGIN:STANDARD
TZOFFSETFROM:-0600
TZOFFSETTO:-0700
TZNAME:MST
DTSTART:20201101T080000
END:STANDARD
BEGIN:DAYLIGHT
TZOFFSETFROM:-0700
TZOFFSETTO:-0600
TZNAME:MDT
DTSTART:20210314T090000
END:DAYLIGHT
BEGIN:STANDARD
TZOFFSETFROM:-0600
TZOFFSETTO:-0700
TZNAME:MST
DTSTART:20211107T080000
END:STANDARD
END:VTIMEZONE
BEGIN:VEVENT
DTSTART;VALUE=DATE:20200223
DTEND;VALUE=DATE:20200224
DTSTAMP:20260419T134318
CREATED:20191119T231617Z
LAST-MODIFIED:20191119T231617Z
UID:6609-1582416000-1582502399@www.lazymcanada.com
SUMMARY:Sandy Jameson Family Xmas
DESCRIPTION:
URL:https://www.lazymcanada.com/schedule/sandy-jameson-family-xmas/
END:VEVENT
BEGIN:VEVENT
DTSTART;VALUE=DATE:20200207
DTEND;VALUE=DATE:20200210
DTSTAMP:20260419T134318
CREATED:20191119T231111Z
LAST-MODIFIED:20191119T231111Z
UID:6605-1581033600-1581292799@www.lazymcanada.com
SUMMARY:Men's Social Weekend
DESCRIPTION:
URL:https://www.lazymcanada.com/schedule/mens-social-weekend-13/
END:VEVENT
BEGIN:VEVENT
DTSTART;VALUE=DATE:20200123
DTEND;VALUE=DATE:20200127
DTSTAMP:20260419T134318
CREATED:20191119T224614Z
LAST-MODIFIED:20191119T224614Z
UID:6603-1579737600-1580083199@www.lazymcanada.com
SUMMARY:Beaver Creek Quilting Retreat
DESCRIPTION:
URL:https://www.lazymcanada.com/schedule/beaver-creek-quilting-retreat-5/
END:VEVENT
BEGIN:VEVENT
DTSTART;VALUE=DATE:20200102
DTEND;VALUE=DATE:20200120
DTSTAMP:20260419T134318
CREATED:20191119T224350Z
LAST-MODIFIED:20191119T224350Z
UID:6601-1577923200-1579478399@www.lazymcanada.com
SUMMARY:Mexico Here we Come
DESCRIPTION:
URL:https://www.lazymcanada.com/schedule/mexico-here-we-come/
END:VEVENT
BEGIN:VEVENT
DTSTART;VALUE=DATE:20191231
DTEND;VALUE=DATE:20200102
DTSTAMP:20260419T134318
CREATED:20181204T003532Z
LAST-MODIFIED:20181204T003532Z
UID:6330-1577750400-1577923199@www.lazymcanada.com
SUMMARY:Men's Social New Year's Eve
DESCRIPTION:
URL:https://www.lazymcanada.com/schedule/mens-social-new-years-eve/
END:VEVENT
BEGIN:VEVENT
DTSTART;VALUE=DATE:20191130
DTEND;VALUE=DATE:20191202
DTSTAMP:20260419T134318
CREATED:20181204T000112Z
LAST-MODIFIED:20181204T000112Z
UID:6328-1575072000-1575244799@www.lazymcanada.com
SUMMARY:LHT Logistics Xmas Party
DESCRIPTION:
URL:https://www.lazymcanada.com/schedule/lht-logistics-xmas-party/
END:VEVENT
BEGIN:VEVENT
DTSTART;VALUE=DATE:20191114
DTEND;VALUE=DATE:20191118
DTSTAMP:20260419T134318
CREATED:20181204T000015Z
LAST-MODIFIED:20181204T000015Z
UID:6326-1573689600-1574035199@www.lazymcanada.com
SUMMARY:Lazy M Crafters
DESCRIPTION:
URL:https://www.lazymcanada.com/schedule/lazy-m-crafters/
END:VEVENT
BEGIN:VEVENT
DTSTART;VALUE=DATE:20191105
DTEND;VALUE=DATE:20191108
DTSTAMP:20260419T134318
CREATED:20181203T235904Z
LAST-MODIFIED:20181203T235904Z
UID:6324-1572912000-1573171199@www.lazymcanada.com
SUMMARY:Red Deer Sew & So's
DESCRIPTION:
URL:https://www.lazymcanada.com/schedule/red-deer-sew-sos/
END:VEVENT
BEGIN:VEVENT
DTSTART;VALUE=DATE:20191031
DTEND;VALUE=DATE:20191104
DTSTAMP:20260419T134318
CREATED:20181203T233343Z
LAST-MODIFIED:20181203T233343Z
UID:6322-1572480000-1572825599@www.lazymcanada.com
SUMMARY:Big Hill Quilters
DESCRIPTION:
URL:https://www.lazymcanada.com/schedule/big-hill-quilters-2/
END:VEVENT
BEGIN:VEVENT
DTSTART;VALUE=DATE:20191025
DTEND;VALUE=DATE:20191028
DTSTAMP:20260419T134318
CREATED:20180821T213131Z
LAST-MODIFIED:20180821T213131Z
UID:6297-1571961600-1572220799@www.lazymcanada.com
SUMMARY:Men's Social weekend
DESCRIPTION:
URL:https://www.lazymcanada.com/schedule/mens-social-weekend-12/
END:VEVENT
BEGIN:VEVENT
DTSTART;VALUE=DATE:20191020
DTEND;VALUE=DATE:20191025
DTSTAMP:20260419T134318
CREATED:20180821T212739Z
LAST-MODIFIED:20180821T212739Z
UID:6293-1571529600-1571961599@www.lazymcanada.com
SUMMARY:Happy Quilters
DESCRIPTION:
URL:https://www.lazymcanada.com/schedule/happy-quilters-2/
END:VEVENT
BEGIN:VEVENT
DTSTART;VALUE=DATE:20191017
DTEND;VALUE=DATE:20191021
DTSTAMP:20260419T134318
CREATED:20180821T212850Z
LAST-MODIFIED:20180821T212850Z
UID:6295-1571270400-1571615999@www.lazymcanada.com
SUMMARY:Happy Crankers
DESCRIPTION:
URL:https://www.lazymcanada.com/schedule/happy-crankers/
END:VEVENT
BEGIN:VEVENT
DTSTART;VALUE=DATE:20191015
DTEND;VALUE=DATE:20191018
DTSTAMP:20260419T134318
CREATED:20180821T212637Z
LAST-MODIFIED:20180821T212637Z
UID:6291-1571097600-1571356799@www.lazymcanada.com
SUMMARY:Bridge Retreat
DESCRIPTION:
URL:https://www.lazymcanada.com/schedule/bridge-retreat-3/
END:VEVENT
BEGIN:VEVENT
DTSTART;VALUE=DATE:20191008
DTEND;VALUE=DATE:20191012
DTSTAMP:20260419T134318
CREATED:20181203T233141Z
LAST-MODIFIED:20181203T233141Z
UID:6320-1570492800-1570838399@www.lazymcanada.com
SUMMARY:Knitting Retreat
DESCRIPTION:
URL:https://www.lazymcanada.com/schedule/knitting-retreat-2/
END:VEVENT
BEGIN:VEVENT
DTSTART;VALUE=DATE:20191003
DTEND;VALUE=DATE:20191008
DTSTAMP:20260419T134318
CREATED:20180821T212508Z
LAST-MODIFIED:20180821T212508Z
UID:6287-1570060800-1570492799@www.lazymcanada.com
SUMMARY:Enlightenment Intensive
DESCRIPTION:
URL:https://www.lazymcanada.com/schedule/enlightenment-intensive-6/
END:VEVENT
BEGIN:VEVENT
DTSTART;VALUE=DATE:20190926
DTEND;VALUE=DATE:20190930
DTSTAMP:20260419T134318
CREATED:20180821T212340Z
LAST-MODIFIED:20180821T212340Z
UID:6285-1569456000-1569801599@www.lazymcanada.com
SUMMARY:Stitch N Time
DESCRIPTION:
URL:https://www.lazymcanada.com/schedule/stitch-n-time/
END:VEVENT
BEGIN:VEVENT
DTSTART;VALUE=DATE:20190919
DTEND;VALUE=DATE:20190923
DTSTAMP:20260419T134318
CREATED:20180821T212233Z
LAST-MODIFIED:20180821T212233Z
UID:6283-1568851200-1569196799@www.lazymcanada.com
SUMMARY:Sharon's Quilting Retreat
DESCRIPTION:
URL:https://www.lazymcanada.com/schedule/sharons-quilting-retreat-2/
END:VEVENT
BEGIN:VEVENT
DTSTART;VALUE=DATE:20190915
DTEND;VALUE=DATE:20190920
DTSTAMP:20260419T134318
CREATED:20181203T223130Z
LAST-MODIFIED:20181203T223130Z
UID:6318-1568505600-1568937599@www.lazymcanada.com
SUMMARY:PALSS Retreat
DESCRIPTION:
URL:https://www.lazymcanada.com/schedule/palss-retreat/
END:VEVENT
BEGIN:VEVENT
DTSTART;VALUE=DATE:20190913
DTEND;VALUE=DATE:20190916
DTSTAMP:20260419T134318
CREATED:20180821T212139Z
LAST-MODIFIED:20180821T212139Z
UID:6281-1568332800-1568591999@www.lazymcanada.com
SUMMARY:Vegreville Ladies
DESCRIPTION:
URL:https://www.lazymcanada.com/schedule/vegreville-ladies-4/
END:VEVENT
BEGIN:VEVENT
DTSTART;VALUE=DATE:20190905
DTEND;VALUE=DATE:20190909
DTSTAMP:20260419T134318
CREATED:20180821T212046Z
LAST-MODIFIED:20180821T212046Z
UID:6279-1567641600-1567987199@www.lazymcanada.com
SUMMARY:Quilted Mouse Guild
DESCRIPTION:
URL:https://www.lazymcanada.com/schedule/quilted-mouse-guild-3/
END:VEVENT
BEGIN:VEVENT
DTSTART;VALUE=DATE:20190826
DTEND;VALUE=DATE:20190830
DTSTAMP:20260419T134318
CREATED:20181130T235829Z
LAST-MODIFIED:20181130T235829Z
UID:6316-1566777600-1567123199@www.lazymcanada.com
SUMMARY:Autumn Trippers
DESCRIPTION:
URL:https://www.lazymcanada.com/schedule/autumn-trippers-2/
END:VEVENT
BEGIN:VEVENT
DTSTART;VALUE=DATE:20190823
DTEND;VALUE=DATE:20190826
DTSTAMP:20260419T134318
CREATED:20180821T211722Z
LAST-MODIFIED:20180821T211722Z
UID:6274-1566518400-1566777599@www.lazymcanada.com
SUMMARY:Leather Brotherhood
DESCRIPTION:
URL:https://www.lazymcanada.com/schedule/leather-brotherhood/
END:VEVENT
BEGIN:VEVENT
DTSTART;VALUE=DATE:20190816
DTEND;VALUE=DATE:20190820
DTSTAMP:20260419T134318
CREATED:20180821T211626Z
LAST-MODIFIED:20190411T195427Z
UID:6272-1565913600-1566259199@www.lazymcanada.com
SUMMARY:APC Weekend
DESCRIPTION:
URL:https://www.lazymcanada.com/schedule/apc-weekend-2/
END:VEVENT
BEGIN:VEVENT
DTSTART;VALUE=DATE:20190806
DTEND;VALUE=DATE:20190809
DTSTAMP:20260419T134318
CREATED:20180821T211035Z
LAST-MODIFIED:20190411T195253Z
UID:6266-1565049600-1565308799@www.lazymcanada.com
SUMMARY:HRPAP Management Retreat
DESCRIPTION:
URL:https://www.lazymcanada.com/schedule/hrpap-management-retreat/
END:VEVENT
BEGIN:VEVENT
DTSTART;VALUE=DATE:20190802
DTEND;VALUE=DATE:20190805
DTSTAMP:20260419T134318
CREATED:20180821T211436Z
LAST-MODIFIED:20180821T211925Z
UID:6268-1564704000-1564963199@www.lazymcanada.com
SUMMARY:Kalchyiski/Moreau Wedding
DESCRIPTION:
URL:https://www.lazymcanada.com/schedule/lalchyiskimoreau-wedding/
END:VEVENT
BEGIN:VEVENT
DTSTART;VALUE=DATE:20190726
DTEND;VALUE=DATE:20190729
DTSTAMP:20260419T134318
CREATED:20180821T210944Z
LAST-MODIFIED:20180821T210944Z
UID:6264-1564099200-1564358399@www.lazymcanada.com
SUMMARY:Odynski Family reunion
DESCRIPTION:
URL:https://www.lazymcanada.com/schedule/odynski-family-reunion-2/
END:VEVENT
BEGIN:VEVENT
DTSTART;VALUE=DATE:20190722
DTEND;VALUE=DATE:20190726
DTSTAMP:20260419T134318
CREATED:20181130T215604Z
LAST-MODIFIED:20181130T215604Z
UID:6314-1563753600-1564099199@www.lazymcanada.com
SUMMARY:Barmentloo Family Reunion
DESCRIPTION:
URL:https://www.lazymcanada.com/schedule/barmentloo-family-reunion/
END:VEVENT
BEGIN:VEVENT
DTSTART;VALUE=DATE:20190719
DTEND;VALUE=DATE:20190722
DTSTAMP:20260419T134318
CREATED:20180821T210836Z
LAST-MODIFIED:20180821T210836Z
UID:6262-1563494400-1563753599@www.lazymcanada.com
SUMMARY:Link/McGibbon wedding
DESCRIPTION:
URL:https://www.lazymcanada.com/schedule/linkmcgibbon-wedding/
END:VEVENT
BEGIN:VEVENT
DTSTART;VALUE=DATE:20190715
DTEND;VALUE=DATE:20190720
DTSTAMP:20260419T134318
CREATED:20180821T210739Z
LAST-MODIFIED:20180821T210739Z
UID:6260-1563148800-1563580799@www.lazymcanada.com
SUMMARY:Nancy Strath Quilting Retreat - Sponsored by Beaver Creek Mercantile
DESCRIPTION:
URL:https://www.lazymcanada.com/schedule/nancy-strath-quilting-retreat-sponsored-by-beaver-creek-mercantile/
END:VEVENT
BEGIN:VEVENT
DTSTART;VALUE=DATE:20190712
DTEND;VALUE=DATE:20190715
DTSTAMP:20260419T134318
CREATED:20180821T210627Z
LAST-MODIFIED:20180821T210627Z
UID:6258-1562889600-1563148799@www.lazymcanada.com
SUMMARY:Men's Social weekend
DESCRIPTION:
URL:https://www.lazymcanada.com/schedule/mens-social-weekend-11/
END:VEVENT
END:VCALENDAR