BEGIN:VCALENDAR
VERSION:2.0
PRODID:-//Lazy M Lodge - ECPv6.15.20//NONSGML v1.0//EN
CALSCALE:GREGORIAN
METHOD:PUBLISH
X-WR-CALNAME:Lazy M Lodge
X-ORIGINAL-URL:https://www.lazymcanada.com
X-WR-CALDESC:Events for Lazy M Lodge
REFRESH-INTERVAL;VALUE=DURATION:PT1H
X-Robots-Tag:noindex
X-PUBLISHED-TTL:PT1H
BEGIN:VTIMEZONE
TZID:America/Denver
BEGIN:DAYLIGHT
TZOFFSETFROM:-0700
TZOFFSETTO:-0600
TZNAME:MDT
DTSTART:20170312T090000
END:DAYLIGHT
BEGIN:STANDARD
TZOFFSETFROM:-0600
TZOFFSETTO:-0700
TZNAME:MST
DTSTART:20171105T080000
END:STANDARD
BEGIN:DAYLIGHT
TZOFFSETFROM:-0700
TZOFFSETTO:-0600
TZNAME:MDT
DTSTART:20180311T090000
END:DAYLIGHT
BEGIN:STANDARD
TZOFFSETFROM:-0600
TZOFFSETTO:-0700
TZNAME:MST
DTSTART:20181104T080000
END:STANDARD
BEGIN:DAYLIGHT
TZOFFSETFROM:-0700
TZOFFSETTO:-0600
TZNAME:MDT
DTSTART:20190310T090000
END:DAYLIGHT
BEGIN:STANDARD
TZOFFSETFROM:-0600
TZOFFSETTO:-0700
TZNAME:MST
DTSTART:20191103T080000
END:STANDARD
BEGIN:DAYLIGHT
TZOFFSETFROM:-0700
TZOFFSETTO:-0600
TZNAME:MDT
DTSTART:20200308T090000
END:DAYLIGHT
BEGIN:STANDARD
TZOFFSETFROM:-0600
TZOFFSETTO:-0700
TZNAME:MST
DTSTART:20201101T080000
END:STANDARD
END:VTIMEZONE
BEGIN:VEVENT
DTSTART;VALUE=DATE:20190301
DTEND;VALUE=DATE:20190304
DTSTAMP:20260419T223513
CREATED:20180821T170018Z
LAST-MODIFIED:20180821T170018Z
UID:6220-1551398400-1551657599@www.lazymcanada.com
SUMMARY:Cochrane Home Schoolers
DESCRIPTION:
URL:https://www.lazymcanada.com/schedule/cochrane-home-schoolers/
END:VEVENT
BEGIN:VEVENT
DTSTART;VALUE=DATE:20190208
DTEND;VALUE=DATE:20190211
DTSTAMP:20260419T223513
CREATED:20180821T165710Z
LAST-MODIFIED:20180821T165710Z
UID:6216-1549584000-1549843199@www.lazymcanada.com
SUMMARY:Men's Social Weekend
DESCRIPTION:
URL:https://www.lazymcanada.com/schedule/mens-social-weekend-9/
END:VEVENT
BEGIN:VEVENT
DTSTART;VALUE=DATE:20190203
DTEND;VALUE=DATE:20190204
DTSTAMP:20260419T223513
CREATED:20180821T165614Z
LAST-MODIFIED:20180821T165614Z
UID:6214-1549152000-1549238399@www.lazymcanada.com
SUMMARY:Jameson Family Christmas
DESCRIPTION:
URL:https://www.lazymcanada.com/schedule/jameson-family-christmas/
END:VEVENT
BEGIN:VEVENT
DTSTART;VALUE=DATE:20190130
DTEND;VALUE=DATE:20190203
DTSTAMP:20260419T223513
CREATED:20180821T165347Z
LAST-MODIFIED:20181127T175139Z
UID:6210-1548806400-1549151999@www.lazymcanada.com
SUMMARY:Scrapping & Card Making Retreat
DESCRIPTION:
URL:https://www.lazymcanada.com/schedule/scrapping-card-making-retreat/
END:VEVENT
BEGIN:VEVENT
DTSTART;VALUE=DATE:20190124
DTEND;VALUE=DATE:20190128
DTSTAMP:20260419T223513
CREATED:20180821T165439Z
LAST-MODIFIED:20180821T165439Z
UID:6212-1548288000-1548633599@www.lazymcanada.com
SUMMARY:Beaver Creek Quilting Retreat
DESCRIPTION:
URL:https://www.lazymcanada.com/schedule/beaver-creek-quilting-retreat-4/
END:VEVENT
BEGIN:VEVENT
DTSTART;VALUE=DATE:20190102
DTEND;VALUE=DATE:20190117
DTSTAMP:20260419T223513
CREATED:20180821T165237Z
LAST-MODIFIED:20181127T175031Z
UID:6208-1546387200-1547683199@www.lazymcanada.com
SUMMARY:Hello Mexico!!
DESCRIPTION:
URL:https://www.lazymcanada.com/schedule/hello-mexico/
END:VEVENT
BEGIN:VEVENT
DTSTART;VALUE=DATE:20181231
DTEND;VALUE=DATE:20190102
DTSTAMP:20260419T223513
CREATED:20161201T190130Z
LAST-MODIFIED:20171017T192435Z
UID:6067-1546214400-1546387199@www.lazymcanada.com
SUMMARY:Mens New Years event
DESCRIPTION:
URL:https://www.lazymcanada.com/schedule/mens-new-years-event/
END:VEVENT
BEGIN:VEVENT
DTSTART;VALUE=DATE:20181221
DTEND;VALUE=DATE:20181231
DTSTAMP:20260419T223513
CREATED:20180821T164820Z
LAST-MODIFIED:20181127T173909Z
UID:6206-1545350400-1546214399@www.lazymcanada.com
SUMMARY:Closed for the Holidays - Merry Christmas Everyone
DESCRIPTION:
URL:https://www.lazymcanada.com/schedule/closed-for-the-holidays-merry-christmas-everyone/
END:VEVENT
BEGIN:VEVENT
DTSTART;VALUE=DATE:20181217
DTEND;VALUE=DATE:20181219
DTSTAMP:20260419T223513
CREATED:20180801T201726Z
LAST-MODIFIED:20180821T164645Z
UID:6189-1545004800-1545177599@www.lazymcanada.com
SUMMARY:Innotech Retreat
DESCRIPTION:
URL:https://www.lazymcanada.com/schedule/innotech-retreat/
END:VEVENT
BEGIN:VEVENT
DTSTART;VALUE=DATE:20181215
DTEND;VALUE=DATE:20181217
DTSTAMP:20260419T223513
CREATED:20180801T201637Z
LAST-MODIFIED:20180801T201637Z
UID:6187-1544832000-1545004799@www.lazymcanada.com
SUMMARY:Baker Family Christmas
DESCRIPTION:
URL:https://www.lazymcanada.com/schedule/baker-family-christmas-2/
END:VEVENT
BEGIN:VEVENT
DTSTART;VALUE=DATE:20181214
DTEND;VALUE=DATE:20181216
DTSTAMP:20260419T223513
CREATED:20181127T172651Z
LAST-MODIFIED:20181127T172651Z
UID:6302-1544745600-1544918399@www.lazymcanada.com
SUMMARY:ACA Xmas Party
DESCRIPTION:
URL:https://www.lazymcanada.com/schedule/aca-xmas-party/
END:VEVENT
BEGIN:VEVENT
DTSTART;VALUE=DATE:20181209
DTEND;VALUE=DATE:20181210
DTSTAMP:20260419T223513
CREATED:20180801T201555Z
LAST-MODIFIED:20180801T201555Z
UID:6185-1544313600-1544399999@www.lazymcanada.com
SUMMARY:Paradis Logging Xmas
DESCRIPTION:
URL:https://www.lazymcanada.com/schedule/paradis-logging-xmas/
END:VEVENT
BEGIN:VEVENT
DTSTART;VALUE=DATE:20181208
DTEND;VALUE=DATE:20181210
DTSTAMP:20260419T223513
CREATED:20181127T172611Z
LAST-MODIFIED:20181127T172611Z
UID:6300-1544227200-1544399999@www.lazymcanada.com
SUMMARY:Fountain Tire Xmas Party
DESCRIPTION:
URL:https://www.lazymcanada.com/schedule/fountain-tire-xmas-party/
END:VEVENT
BEGIN:VEVENT
DTSTART;VALUE=DATE:20181201
DTEND;VALUE=DATE:20181203
DTSTAMP:20260419T223513
CREATED:20180801T201509Z
LAST-MODIFIED:20180801T201509Z
UID:6183-1543622400-1543795199@www.lazymcanada.com
SUMMARY:Longhurst Trucking Xmas
DESCRIPTION:
URL:https://www.lazymcanada.com/schedule/longhurst-trucking-xmas/
END:VEVENT
BEGIN:VEVENT
DTSTART;VALUE=DATE:20181124
DTEND;VALUE=DATE:20181126
DTSTAMP:20260419T223513
CREATED:20180821T164457Z
LAST-MODIFIED:20180821T164457Z
UID:6204-1543017600-1543190399@www.lazymcanada.com
SUMMARY:Gray/Krause Family Christmas
DESCRIPTION:
URL:https://www.lazymcanada.com/schedule/graykrause-family-christmas/
END:VEVENT
BEGIN:VEVENT
DTSTART;VALUE=DATE:20181115
DTEND;VALUE=DATE:20181119
DTSTAMP:20260419T223513
CREATED:20180801T195239Z
LAST-MODIFIED:20180801T195239Z
UID:6181-1542240000-1542585599@www.lazymcanada.com
SUMMARY:Getter Done Weekend
DESCRIPTION:
URL:https://www.lazymcanada.com/schedule/getter-done-weekend/
END:VEVENT
BEGIN:VEVENT
DTSTART;VALUE=DATE:20181108
DTEND;VALUE=DATE:20181112
DTSTAMP:20260419T223513
CREATED:20161201T190039Z
LAST-MODIFIED:20161201T190039Z
UID:6066-1541635200-1541980799@www.lazymcanada.com
SUMMARY:Hot off the Hook\, rug hooking retreat
DESCRIPTION:
URL:https://www.lazymcanada.com/schedule/hot-off-the-hook-rug-hooking-retreat/
END:VEVENT
BEGIN:VEVENT
DTSTART;VALUE=DATE:20181106
DTEND;VALUE=DATE:20181109
DTSTAMP:20260419T223513
CREATED:20180821T164308Z
LAST-MODIFIED:20180821T164308Z
UID:6202-1541462400-1541721599@www.lazymcanada.com
SUMMARY:Red Deer Sew & Sews
DESCRIPTION:
URL:https://www.lazymcanada.com/schedule/red-deer-sew-sews-2/
END:VEVENT
BEGIN:VEVENT
DTSTART;VALUE=DATE:20181102
DTEND;VALUE=DATE:20181105
DTSTAMP:20260419T223513
CREATED:20180801T194946Z
LAST-MODIFIED:20180801T194946Z
UID:6179-1541116800-1541375999@www.lazymcanada.com
SUMMARY:Big Hill Quilters
DESCRIPTION:
URL:https://www.lazymcanada.com/schedule/big-hill-quilters/
END:VEVENT
BEGIN:VEVENT
DTSTART;VALUE=DATE:20181025
DTEND;VALUE=DATE:20181030
DTSTAMP:20260419T223513
CREATED:20180425T201920Z
LAST-MODIFIED:20180425T201920Z
UID:6175-1540425600-1540857599@www.lazymcanada.com
SUMMARY:Enlightenment Intensive
DESCRIPTION:
URL:https://www.lazymcanada.com/schedule/enlightenment-intensive-4/
END:VEVENT
BEGIN:VEVENT
DTSTART;VALUE=DATE:20181021
DTEND;VALUE=DATE:20181026
DTSTAMP:20260419T223513
CREATED:20161201T185906Z
LAST-MODIFIED:20161201T185906Z
UID:6064-1540080000-1540511999@www.lazymcanada.com
SUMMARY:Happy Quilters Retreat
DESCRIPTION:
URL:https://www.lazymcanada.com/schedule/happy-quilters-retreat-3/
END:VEVENT
BEGIN:VEVENT
DTSTART;VALUE=DATE:20181019
DTEND;VALUE=DATE:20181022
DTSTAMP:20260419T223513
CREATED:20161201T185950Z
LAST-MODIFIED:20180801T194845Z
UID:6065-1539907200-1540166399@www.lazymcanada.com
SUMMARY:Mens Social Weekend
DESCRIPTION:
URL:https://www.lazymcanada.com/schedule/mens-social-weekend-8/
END:VEVENT
BEGIN:VEVENT
DTSTART;VALUE=DATE:20181015
DTEND;VALUE=DATE:20181019
DTSTAMP:20260419T223513
CREATED:20180821T164103Z
LAST-MODIFIED:20180821T164103Z
UID:6200-1539561600-1539907199@www.lazymcanada.com
SUMMARY:ACA Management Meetings
DESCRIPTION:
URL:https://www.lazymcanada.com/schedule/aca-management-meetings/
END:VEVENT
BEGIN:VEVENT
DTSTART;VALUE=DATE:20181011
DTEND;VALUE=DATE:20181015
DTSTAMP:20260419T223513
CREATED:20171017T192054Z
LAST-MODIFIED:20171017T192054Z
UID:6142-1539216000-1539561599@www.lazymcanada.com
SUMMARY:Happy Crankers Retreat
DESCRIPTION:
URL:https://www.lazymcanada.com/schedule/happy-crankers-retreat-2/
END:VEVENT
BEGIN:VEVENT
DTSTART;VALUE=DATE:20181009
DTEND;VALUE=DATE:20181012
DTSTAMP:20260419T223513
CREATED:20161201T185816Z
LAST-MODIFIED:20161201T185816Z
UID:6063-1539043200-1539302399@www.lazymcanada.com
SUMMARY:Ladies Bridge Retreat
DESCRIPTION:
URL:https://www.lazymcanada.com/schedule/ladies-bridge-retreat-2/
END:VEVENT
BEGIN:VEVENT
DTSTART;VALUE=DATE:20181005
DTEND;VALUE=DATE:20181009
DTSTAMP:20260419T223513
CREATED:20161201T185718Z
LAST-MODIFIED:20161201T185718Z
UID:6062-1538697600-1539043199@www.lazymcanada.com
SUMMARY:Raina and Stewart's Wedding
DESCRIPTION:
URL:https://www.lazymcanada.com/schedule/raina-and-stewarts-wedding/
END:VEVENT
BEGIN:VEVENT
DTSTART;VALUE=DATE:20181001
DTEND;VALUE=DATE:20181005
DTSTAMP:20260419T223513
CREATED:20180821T163953Z
LAST-MODIFIED:20180821T163953Z
UID:6198-1538352000-1538697599@www.lazymcanada.com
SUMMARY:Knitting Retreat
DESCRIPTION:
URL:https://www.lazymcanada.com/schedule/knitting-retreat/
END:VEVENT
BEGIN:VEVENT
DTSTART;VALUE=DATE:20180927
DTEND;VALUE=DATE:20181001
DTSTAMP:20260419T223513
CREATED:20161201T185621Z
LAST-MODIFIED:20161201T185621Z
UID:6061-1538006400-1538351999@www.lazymcanada.com
SUMMARY:Stitch in Time Quilting retreat
DESCRIPTION:
URL:https://www.lazymcanada.com/schedule/stitch-in-time-quilting-retreat-2/
END:VEVENT
BEGIN:VEVENT
DTSTART;VALUE=DATE:20180924
DTEND;VALUE=DATE:20180927
DTSTAMP:20260419T223513
CREATED:20180821T163753Z
LAST-MODIFIED:20180821T163753Z
UID:6196-1537747200-1538006399@www.lazymcanada.com
SUMMARY:Labyrinth Ladies & Hearts & Hands Quilters
DESCRIPTION:
URL:https://www.lazymcanada.com/schedule/labyrinth-ladies-hearts-hands-quilters/
END:VEVENT
BEGIN:VEVENT
DTSTART;VALUE=DATE:20180920
DTEND;VALUE=DATE:20180924
DTSTAMP:20260419T223513
CREATED:20161201T185532Z
LAST-MODIFIED:20161201T185532Z
UID:6060-1537401600-1537747199@www.lazymcanada.com
SUMMARY:Sharon's Fall Quilting retreat
DESCRIPTION:
URL:https://www.lazymcanada.com/schedule/sharons-fall-quilting-retreat-2/
END:VEVENT
END:VCALENDAR