BEGIN:VCALENDAR
VERSION:2.0
PRODID:-//Lazy M Lodge - ECPv6.15.20//NONSGML v1.0//EN
CALSCALE:GREGORIAN
METHOD:PUBLISH
X-WR-CALNAME:Lazy M Lodge
X-ORIGINAL-URL:https://www.lazymcanada.com
X-WR-CALDESC:Events for Lazy M Lodge
REFRESH-INTERVAL;VALUE=DURATION:PT1H
X-Robots-Tag:noindex
X-PUBLISHED-TTL:PT1H
BEGIN:VTIMEZONE
TZID:America/Denver
BEGIN:DAYLIGHT
TZOFFSETFROM:-0700
TZOFFSETTO:-0600
TZNAME:MDT
DTSTART:20170312T090000
END:DAYLIGHT
BEGIN:STANDARD
TZOFFSETFROM:-0600
TZOFFSETTO:-0700
TZNAME:MST
DTSTART:20171105T080000
END:STANDARD
BEGIN:DAYLIGHT
TZOFFSETFROM:-0700
TZOFFSETTO:-0600
TZNAME:MDT
DTSTART:20180311T090000
END:DAYLIGHT
BEGIN:STANDARD
TZOFFSETFROM:-0600
TZOFFSETTO:-0700
TZNAME:MST
DTSTART:20181104T080000
END:STANDARD
BEGIN:DAYLIGHT
TZOFFSETFROM:-0700
TZOFFSETTO:-0600
TZNAME:MDT
DTSTART:20190310T090000
END:DAYLIGHT
BEGIN:STANDARD
TZOFFSETFROM:-0600
TZOFFSETTO:-0700
TZNAME:MST
DTSTART:20191103T080000
END:STANDARD
END:VTIMEZONE
BEGIN:VEVENT
DTSTART;VALUE=DATE:20181021
DTEND;VALUE=DATE:20181026
DTSTAMP:20260420T023400
CREATED:20161201T185906Z
LAST-MODIFIED:20161201T185906Z
UID:6064-1540080000-1540511999@www.lazymcanada.com
SUMMARY:Happy Quilters Retreat
DESCRIPTION:
URL:https://www.lazymcanada.com/schedule/happy-quilters-retreat-3/
END:VEVENT
BEGIN:VEVENT
DTSTART;VALUE=DATE:20181019
DTEND;VALUE=DATE:20181022
DTSTAMP:20260420T023400
CREATED:20161201T185950Z
LAST-MODIFIED:20180801T194845Z
UID:6065-1539907200-1540166399@www.lazymcanada.com
SUMMARY:Mens Social Weekend
DESCRIPTION:
URL:https://www.lazymcanada.com/schedule/mens-social-weekend-8/
END:VEVENT
BEGIN:VEVENT
DTSTART;VALUE=DATE:20181015
DTEND;VALUE=DATE:20181019
DTSTAMP:20260420T023400
CREATED:20180821T164103Z
LAST-MODIFIED:20180821T164103Z
UID:6200-1539561600-1539907199@www.lazymcanada.com
SUMMARY:ACA Management Meetings
DESCRIPTION:
URL:https://www.lazymcanada.com/schedule/aca-management-meetings/
END:VEVENT
BEGIN:VEVENT
DTSTART;VALUE=DATE:20181011
DTEND;VALUE=DATE:20181015
DTSTAMP:20260420T023400
CREATED:20171017T192054Z
LAST-MODIFIED:20171017T192054Z
UID:6142-1539216000-1539561599@www.lazymcanada.com
SUMMARY:Happy Crankers Retreat
DESCRIPTION:
URL:https://www.lazymcanada.com/schedule/happy-crankers-retreat-2/
END:VEVENT
BEGIN:VEVENT
DTSTART;VALUE=DATE:20181009
DTEND;VALUE=DATE:20181012
DTSTAMP:20260420T023400
CREATED:20161201T185816Z
LAST-MODIFIED:20161201T185816Z
UID:6063-1539043200-1539302399@www.lazymcanada.com
SUMMARY:Ladies Bridge Retreat
DESCRIPTION:
URL:https://www.lazymcanada.com/schedule/ladies-bridge-retreat-2/
END:VEVENT
BEGIN:VEVENT
DTSTART;VALUE=DATE:20181005
DTEND;VALUE=DATE:20181009
DTSTAMP:20260420T023400
CREATED:20161201T185718Z
LAST-MODIFIED:20161201T185718Z
UID:6062-1538697600-1539043199@www.lazymcanada.com
SUMMARY:Raina and Stewart's Wedding
DESCRIPTION:
URL:https://www.lazymcanada.com/schedule/raina-and-stewarts-wedding/
END:VEVENT
BEGIN:VEVENT
DTSTART;VALUE=DATE:20181001
DTEND;VALUE=DATE:20181005
DTSTAMP:20260420T023400
CREATED:20180821T163953Z
LAST-MODIFIED:20180821T163953Z
UID:6198-1538352000-1538697599@www.lazymcanada.com
SUMMARY:Knitting Retreat
DESCRIPTION:
URL:https://www.lazymcanada.com/schedule/knitting-retreat/
END:VEVENT
BEGIN:VEVENT
DTSTART;VALUE=DATE:20180927
DTEND;VALUE=DATE:20181001
DTSTAMP:20260420T023400
CREATED:20161201T185621Z
LAST-MODIFIED:20161201T185621Z
UID:6061-1538006400-1538351999@www.lazymcanada.com
SUMMARY:Stitch in Time Quilting retreat
DESCRIPTION:
URL:https://www.lazymcanada.com/schedule/stitch-in-time-quilting-retreat-2/
END:VEVENT
BEGIN:VEVENT
DTSTART;VALUE=DATE:20180924
DTEND;VALUE=DATE:20180927
DTSTAMP:20260420T023400
CREATED:20180821T163753Z
LAST-MODIFIED:20180821T163753Z
UID:6196-1537747200-1538006399@www.lazymcanada.com
SUMMARY:Labyrinth Ladies & Hearts & Hands Quilters
DESCRIPTION:
URL:https://www.lazymcanada.com/schedule/labyrinth-ladies-hearts-hands-quilters/
END:VEVENT
BEGIN:VEVENT
DTSTART;VALUE=DATE:20180920
DTEND;VALUE=DATE:20180924
DTSTAMP:20260420T023400
CREATED:20161201T185532Z
LAST-MODIFIED:20161201T185532Z
UID:6060-1537401600-1537747199@www.lazymcanada.com
SUMMARY:Sharon's Fall Quilting retreat
DESCRIPTION:
URL:https://www.lazymcanada.com/schedule/sharons-fall-quilting-retreat-2/
END:VEVENT
BEGIN:VEVENT
DTSTART;VALUE=DATE:20180917
DTEND;VALUE=DATE:20180920
DTSTAMP:20260420T023400
CREATED:20180821T163523Z
LAST-MODIFIED:20180821T163523Z
UID:6194-1537142400-1537401599@www.lazymcanada.com
SUMMARY:Personal Retreat
DESCRIPTION:
URL:https://www.lazymcanada.com/schedule/personal-retreat-2/
END:VEVENT
BEGIN:VEVENT
DTSTART;VALUE=DATE:20180914
DTEND;VALUE=DATE:20180917
DTSTAMP:20260420T023400
CREATED:20161201T185435Z
LAST-MODIFIED:20161201T185435Z
UID:6059-1536883200-1537142399@www.lazymcanada.com
SUMMARY:Vegreville Ladies
DESCRIPTION:
URL:https://www.lazymcanada.com/schedule/vegreville-ladies-3/
END:VEVENT
BEGIN:VEVENT
DTSTART;VALUE=DATE:20180910
DTEND;VALUE=DATE:20180914
DTSTAMP:20260420T023400
CREATED:20180821T163430Z
LAST-MODIFIED:20180821T163430Z
UID:6192-1536537600-1536883199@www.lazymcanada.com
SUMMARY:Mountain Cabin Quilters Retreat
DESCRIPTION:
URL:https://www.lazymcanada.com/schedule/mountain-cabin-quilters-retreat-2/
END:VEVENT
BEGIN:VEVENT
DTSTART;VALUE=DATE:20180906
DTEND;VALUE=DATE:20180910
DTSTAMP:20260420T023400
CREATED:20161201T185334Z
LAST-MODIFIED:20161201T185334Z
UID:6058-1536192000-1536537599@www.lazymcanada.com
SUMMARY:Quilted Mouse Retreat
DESCRIPTION:
URL:https://www.lazymcanada.com/schedule/quilted-mouse-retreat/
END:VEVENT
BEGIN:VEVENT
DTSTART;VALUE=DATE:20180903
DTEND;VALUE=DATE:20180907
DTSTAMP:20260420T023400
CREATED:20180214T183729Z
LAST-MODIFIED:20180214T183729Z
UID:6169-1535932800-1536278399@www.lazymcanada.com
SUMMARY:Autumn Trippers
DESCRIPTION:
URL:https://www.lazymcanada.com/schedule/autumn-trippers/
END:VEVENT
BEGIN:VEVENT
DTSTART;VALUE=DATE:20180831
DTEND;VALUE=DATE:20180903
DTSTAMP:20260420T023400
CREATED:20180304T225525Z
LAST-MODIFIED:20180304T225525Z
UID:6172-1535673600-1535932799@www.lazymcanada.com
SUMMARY:Thomson 90th Birthday Party
DESCRIPTION:
URL:https://www.lazymcanada.com/schedule/thomson-90th-birthday-party/
END:VEVENT
BEGIN:VEVENT
DTSTART;VALUE=DATE:20180824
DTEND;VALUE=DATE:20180827
DTSTAMP:20260420T023400
CREATED:20171017T191833Z
LAST-MODIFIED:20171017T191833Z
UID:6140-1535068800-1535327999@www.lazymcanada.com
SUMMARY:Tonya Lavery & Braydon Snyber Wedding
DESCRIPTION:
URL:https://www.lazymcanada.com/schedule/tonya-lavery-braydon-snyber-wedding/
END:VEVENT
BEGIN:VEVENT
DTSTART;VALUE=DATE:20180817
DTEND;VALUE=DATE:20180820
DTSTAMP:20260420T023400
CREATED:20180129T001408Z
LAST-MODIFIED:20180129T001510Z
UID:6163-1534464000-1534723199@www.lazymcanada.com
SUMMARY:Sharee Ekert & John Zurbrugg wedding
DESCRIPTION:
URL:https://www.lazymcanada.com/schedule/sharee-ekert-john-zurbrugg-wedding/
END:VEVENT
BEGIN:VEVENT
DTSTART;VALUE=DATE:20180810
DTEND;VALUE=DATE:20180813
DTSTAMP:20260420T023400
CREATED:20161201T185153Z
LAST-MODIFIED:20161201T185153Z
UID:6057-1533859200-1534118399@www.lazymcanada.com
SUMMARY:Laboldus Family Reunion
DESCRIPTION:
URL:https://www.lazymcanada.com/schedule/laboldus-family-reunion/
END:VEVENT
BEGIN:VEVENT
DTSTART;VALUE=DATE:20180803
DTEND;VALUE=DATE:20180807
DTSTAMP:20260420T023400
CREATED:20161201T185049Z
LAST-MODIFIED:20161201T185049Z
UID:6056-1533254400-1533599999@www.lazymcanada.com
SUMMARY:Old Friends Quilting Retreat
DESCRIPTION:
URL:https://www.lazymcanada.com/schedule/old-friends-quilting-retreat-3/
END:VEVENT
BEGIN:VEVENT
DTSTART;VALUE=DATE:20180726
DTEND;VALUE=DATE:20180731
DTSTAMP:20260420T023400
CREATED:20171017T191523Z
LAST-MODIFIED:20171017T191523Z
UID:6136-1532563200-1532995199@www.lazymcanada.com
SUMMARY:Boucher Family Reunion
DESCRIPTION:
URL:https://www.lazymcanada.com/schedule/boucher-family-reunion/
END:VEVENT
BEGIN:VEVENT
DTSTART;VALUE=DATE:20180723
DTEND;VALUE=DATE:20180726
DTSTAMP:20260420T023400
CREATED:20171027T145754Z
LAST-MODIFIED:20171027T145754Z
UID:6147-1532304000-1532563199@www.lazymcanada.com
SUMMARY:Adam & Eliza Crawford
DESCRIPTION:
URL:https://www.lazymcanada.com/schedule/adam-eliza-crawford/
END:VEVENT
BEGIN:VEVENT
DTSTART;VALUE=DATE:20180720
DTEND;VALUE=DATE:20180723
DTSTAMP:20260420T023400
CREATED:20171017T191432Z
LAST-MODIFIED:20171017T214522Z
UID:6134-1532044800-1532303999@www.lazymcanada.com
SUMMARY:Kristina Gray & Darin Krause Wedding
DESCRIPTION:
URL:https://www.lazymcanada.com/schedule/kristina-gray-wedding/
END:VEVENT
BEGIN:VEVENT
DTSTART;VALUE=DATE:20180716
DTEND;VALUE=DATE:20180721
DTSTAMP:20260420T023400
CREATED:20171017T190640Z
LAST-MODIFIED:20171017T190640Z
UID:6132-1531699200-1532131199@www.lazymcanada.com
SUMMARY:Nancy Strath Quilting Retreat
DESCRIPTION:
URL:https://www.lazymcanada.com/schedule/nancy-strath-quilting-retreat-2/
END:VEVENT
BEGIN:VEVENT
DTSTART;VALUE=DATE:20180713
DTEND;VALUE=DATE:20180716
DTSTAMP:20260420T023400
CREATED:20161201T184746Z
LAST-MODIFIED:20161201T184746Z
UID:6054-1531440000-1531699199@www.lazymcanada.com
SUMMARY:Mens Social Weekend
DESCRIPTION:
URL:https://www.lazymcanada.com/schedule/mens-social-weekend-7/
END:VEVENT
BEGIN:VEVENT
DTSTART;VALUE=DATE:20180706
DTEND;VALUE=DATE:20180709
DTSTAMP:20260420T023400
CREATED:20161201T184551Z
LAST-MODIFIED:20161201T184643Z
UID:6053-1530835200-1531094399@www.lazymcanada.com
SUMMARY:The Fishin' Hole Fly fishing School
DESCRIPTION:
URL:https://www.lazymcanada.com/schedule/the-fishin-hole-fly-fishing-school-3/
END:VEVENT
BEGIN:VEVENT
DTSTART;VALUE=DATE:20180629
DTEND;VALUE=DATE:20180703
DTSTAMP:20260420T023400
CREATED:20171017T190329Z
LAST-MODIFIED:20171017T190329Z
UID:6129-1530230400-1530575999@www.lazymcanada.com
SUMMARY:Gill Family Reunion
DESCRIPTION:
URL:https://www.lazymcanada.com/schedule/gill-family-reunion/
END:VEVENT
BEGIN:VEVENT
DTSTART;VALUE=DATE:20180621
DTEND;VALUE=DATE:20180625
DTSTAMP:20260420T023400
CREATED:20171017T190238Z
LAST-MODIFIED:20171017T190238Z
UID:6127-1529539200-1529884799@www.lazymcanada.com
SUMMARY:Pieceful Quilters Retreat
DESCRIPTION:
URL:https://www.lazymcanada.com/schedule/pieceful-quilters-retreat/
END:VEVENT
BEGIN:VEVENT
DTSTART;VALUE=DATE:20180614
DTEND;VALUE=DATE:20180617
DTSTAMP:20260420T023400
CREATED:20171208T232630Z
LAST-MODIFIED:20180125T003742Z
UID:6159-1528934400-1529193599@www.lazymcanada.com
SUMMARY:Canadian Tantra Festival
DESCRIPTION:
URL:https://www.lazymcanada.com/schedule/canadian-tantric-festival/
END:VEVENT
BEGIN:VEVENT
DTSTART;VALUE=DATE:20180608
DTEND;VALUE=DATE:20180611
DTSTAMP:20260420T023400
CREATED:20161201T190251Z
LAST-MODIFIED:20161201T201116Z
UID:6068-1528416000-1528675199@www.lazymcanada.com
SUMMARY:The Fishin' Hole fly fishing School
DESCRIPTION:
URL:https://www.lazymcanada.com/schedule/the-fishin-hole-fly-fishing-school-4/
END:VEVENT
END:VCALENDAR